BEGIN:VCALENDAR
PRODID:-//eluceo/ical//2.0/EN
VERSION:2.0
CALSCALE:GREGORIAN
BEGIN:VEVENT
UID:4bcb5425cb0d4b51e2a63d4880030533
DTSTAMP:20260420T165604Z
SUMMARY:Volunteer Garden Prep Team
DESCRIPTION:Shaw JCC of Akron\nJCC Calendar\nhttps://shawjcc.org/jcccalenda
 r/volunteer-garden-prep-teammay15\n\nLove to dig in the dirt\, or want to 
 learn more about the joys of gardening? If so\, this is a perfect opportun
 ity to combine those wishes with a wonderful volunteer project. Our presch
 ool has three wonderful raised garden beds on their playground just beggin
 g for attention. Help us as we ready them for spring planting. No experien
 ce necessary! Grab some gloves and a shovel and meet us on the playground!
DTSTART;TZID=America/New_York:20190515T110000
DTEND;TZID=America/New_York:20190515T130000
END:VEVENT
END:VCALENDAR
