BEGIN:VCALENDAR
PRODID:-//eluceo/ical//2.0/EN
VERSION:2.0
CALSCALE:GREGORIAN
BEGIN:VEVENT
UID:67e279a34dfd1288ef42cb85f665a484
DTSTAMP:20260422T232118Z
SUMMARY:Water Marbling at Akron Artspace
DESCRIPTION:Shaw JCC of Akron\nJCC Calendar\nhttps://shawjcc.org/jcccalenda
 r/water-marbling-at-akron-artspace-1538152194\n\nCome create your own 100%
  silk scarf by water marbling. In this unique art form\, you drip the pain
 t on a tray of water\, create your personal floating design and we make it
  into a beautiful 6-ft. scarf. It's fascinating\, fun and fabulous! You've
  got to try it! Take your beautiful creation home with you!! Box lunch and
  transportation to Akron Artspace provided.\nCost $49 M/$52 G
DTSTART;TZID=America/New_York:20181128T100000
DTEND;TZID=America/New_York:20181128T130000
END:VEVENT
END:VCALENDAR
