BEGIN:VCALENDAR
PRODID:-//eluceo/ical//2.0/EN
VERSION:2.0
CALSCALE:GREGORIAN
BEGIN:VEVENT
UID:ed5cae197904b0238ea8a1d4b6ac6507
DTSTAMP:20260421T221052Z
SUMMARY:Water Werks
DESCRIPTION:Shaw JCC of Akron\nJCC Calendar\nhttps://shawjcc.org/jcccalenda
 r/water-werks-07022018\n\nFREE for J members! Medium intensity level worko
 ut for all ages. Over 90 exercises working from head to toe\, increasing r
 ange of motion and strengthen muscles while improving balance and coordina
 tion. Aqua Bells & boards used. Class can be done in shallow &/or deep wat
 er. (All levels)
DTSTART;TZID=America/New_York:20190102T090000
DTEND;TZID=America/New_York:20190102T100000
END:VEVENT
END:VCALENDAR
