BEGIN:VCALENDAR
PRODID:-//eluceo/ical//2.0/EN
VERSION:2.0
CALSCALE:GREGORIAN
BEGIN:VEVENT
UID:e96878eec1628530c7cf6b201f1491f8
DTSTAMP:20260420T134854Z
SUMMARY:What's in Your Attic?! Sponsored by Brookdale and Caring Traditions
DESCRIPTION:Shaw JCC of Akron\nJCC Calendar\nhttps://shawjcc.org/jcccalenda
 r/whats-in-your-attic-sponsored-by-brookdale-and-caring-traditions\n\nLunc
 h included. Brookdale and Caring Traditions are combining their resources 
 to bring us a unique and fun program on getting rid of the clutter in our 
 lives. We all know we need to eliminate unnecessary items from our homes\,
  but what if that figurine or candlestick is really worth something? Local
  appraiser\, Michael Pollack\, owner of The Vintage Vault\, will be on han
 d to tell (pre-selected)* participants what their objects are worth. You j
 ust might be surprised! Door prizes\, too!\n\n*Please ...
DTSTART;TZID=America/New_York:20191029T104500
DTEND;TZID=America/New_York:20191029T124500
END:VEVENT
END:VCALENDAR
