BEGIN:VCALENDAR
PRODID:-//eluceo/ical//2.0/EN
VERSION:2.0
CALSCALE:GREGORIAN
BEGIN:VEVENT
UID:acff6831fa9e7202de367aef790016fd
DTSTAMP:20260421T085732Z
SUMMARY:When Life Gives You Lemons
DESCRIPTION:Shaw JCC of Akron\nJCC Calendar\nhttps://shawjcc.org/jcccalenda
 r/when-life-gives-you-lemons-06132018\n\nWould you call yourself an optimi
 st or a pessimist? Find out how to reframe negative situations and explain
  how the ABC model plays a role in your thought process. You’ll also lea
 rn tips on how to achieve happiness and ways to boost your mood through ca
 ring for yourself.
DTSTART;TZID=America/New_York:20180613T110000
DTEND;TZID=America/New_York:20180613T120000
END:VEVENT
END:VCALENDAR
