BEGIN:VCALENDAR
PRODID:-//eluceo/ical//2.0/EN
VERSION:2.0
CALSCALE:GREGORIAN
BEGIN:VEVENT
UID:e7599f89f713fa5f0d3c642df24cdb15
DTSTAMP:20260422T114738Z
SUMMARY:Shaliach Program: When Heroes Fly
DESCRIPTION:Shaw JCC of Akron\nJCC Calendar\nhttps://shawjcc.org/jcccalenda
 r/whenheroesfly-294928\n\nPlease note this is a program change.\n\nJoin Mo
 r on April 2nd at 7 p.m. for the screening of the hit Israeli series\, “
 When Heroes Fly.” Four friends\, 11 years after a major falling out\, re
 unite on a final mission to find Yaeli\, the former lover of one man and s
 ister of another. Can they triumph over and find strength required to lay 
 past demons to rest? Set deep in the Columbian jungle\, this is a story of
  fighting for life as well as overcoming personal demons to find peace. Fe
 aturing br...
DTSTART;TZID=America/New_York:20190402T190000
DTEND;TZID=America/New_York:20190402T203000
END:VEVENT
END:VCALENDAR
