BEGIN:VCALENDAR
PRODID:-//eluceo/ical//2.0/EN
VERSION:2.0
CALSCALE:GREGORIAN
BEGIN:VEVENT
UID:990c91f93685e87c7868dad03982257b
DTSTAMP:20260420T195603Z
SUMMARY:Lippman/ECE Winter Bash
DESCRIPTION:Shaw JCC of Akron\nJCC Calendar\nhttps://shawjcc.org/jcccalenda
 r/winter-bash-262894\n\nPlease join The Lippman School and the Mandel ECE 
 for our "Winter Bash". \n\nDate: Saturday\, January 26\, 2019\n\nTime: 7:
 00 pm -- 10:00 pm\n\nFurther information will be forthcoming.
DTSTART;TZID=America/New_York:20190126T190000
DTEND;TZID=America/New_York:20190126T220000
END:VEVENT
END:VCALENDAR
