BEGIN:VCALENDAR
PRODID:-//eluceo/ical//2.0/EN
VERSION:2.0
CALSCALE:GREGORIAN
BEGIN:VEVENT
UID:9b0d273fa0ac8640b9bad076c0283b24
DTSTAMP:20260424T201642Z
SUMMARY:Winter Camp JCC
DESCRIPTION:Shaw JCC of Akron\nJCC Calendar\nhttps://shawjcc.org/jcccalenda
 r/winter-camp-jcc-01022019\n\nMake friends\, enjoy winter-themed parties &
  have a winter blast! (No camp Dec. 25 & Jan. 1)\nWinter Camp J Options fo
 r Grades K-2 & Grades 2-8\n\n\nDaily Field Trips (Grades 2+)\nDaily Themed
  Programs\nIndoor Swim Time\nSpecialists & Guest Presenters\nSpecialty Cam
 ps: Basketball Camp\, Ages 7-12 (Jan 2\, 3 & 4)\nArt Camp: Ages 6-10 (Jan.
  2\, 3 & 4)\n\n\nBrochure available in October. Discounts for members and 
 multi-days. For more information call 330-835-0052 or email camp@shawjcc.o
 rg.
DTSTART;TZID=America/New_York:20190102T080000
DTEND;TZID=America/New_York:20190104T160000
END:VEVENT
END:VCALENDAR
