BEGIN:VCALENDAR
PRODID:-//eluceo/ical//2.0/EN
VERSION:2.0
CALSCALE:GREGORIAN
BEGIN:VEVENT
UID:265a1a8f32d2320263031321690d3fb6
DTSTAMP:20260425T110010Z
SUMMARY:Winter Workout
DESCRIPTION:Shaw JCC of Akron\nJCC Calendar\nhttps://shawjcc.org/jcccalenda
 r/winter-workout-nov11\n\nWinter Workout (ages 3–5)\nFridays Nov. 11-Dec
 . 16\n1:45 p.m. 401.007\n\nChildren will enjoy learning skills for basketb
 all\, hockey and volleyball. Two weeks of each sport will be introduced 
 plus some game time play. Cost: $45 M/$60 G. Call 330-867-7850 to registe
 r and mention code 401.007.
DTSTART;TZID=America/New_York:20161111T130000
DTEND;TZID=America/New_York:20161111T134500
END:VEVENT
END:VCALENDAR
