BEGIN:VCALENDAR
PRODID:-//eluceo/ical//2.0/EN
VERSION:2.0
CALSCALE:GREGORIAN
BEGIN:VEVENT
UID:48ca633eebe5bbc94e3c4af45a5d73eb
DTSTAMP:20260419T143232Z
SUMMARY:Winter Workout
DESCRIPTION:Shaw JCC of Akron\nJCC Calendar\nhttps://shawjcc.org/jcccalenda
 r/winter-workoutjanfeb\n\nChildren will be picked up from their ECE class 
 and learn skills for sports such as: \n\n\nBasketball\nSoccer\nHockey\n\n
 \nClass may end with playtime or reading a book and then children will be 
 returned back to their ECE class.\n\nMon. Jan. 20- Feb. 24 (no class on Mo
 n. Feb. 17 due to ECE conferences)\n\nCost: $50/M $75/G\n\n401.WINTER
DTSTART;TZID=America/New_York:20200120T130000
DTEND;TZID=America/New_York:20200120T134500
END:VEVENT
END:VCALENDAR
