BEGIN:VCALENDAR
PRODID:-//eluceo/ical//2.0/EN
VERSION:2.0
CALSCALE:GREGORIAN
BEGIN:VEVENT
UID:b56bfe2cfe5fc92adbe219d35bf967c9
DTSTAMP:20260422T081658Z
SUMMARY:Workmen's Circle Cemetery Visit
DESCRIPTION:Shaw JCC of Akron\nJCC Calendar\nhttps://shawjcc.org/jcccalenda
 r/workmens-circle-cemetery-visit-1558471924-311104\n\n.
DTSTART;TZID=America/New_York:20191006T100000
DTEND;TZID=America/New_York:20191006T120000
END:VEVENT
END:VCALENDAR
