BEGIN:VCALENDAR
PRODID:-//eluceo/ical//2.0/EN
VERSION:2.0
CALSCALE:GREGORIAN
BEGIN:VEVENT
UID:f176403e3be4e75bd15dc15749c30910
DTSTAMP:20260426T015939Z
SUMMARY:Yoga
DESCRIPTION:Shaw JCC of Akron\nJCC Calendar\nhttps://shawjcc.org/jcccalenda
 r/yoga-1502111535\n\nFREE for J members! This introductory yoga class is i
 deal for those who are new to yoga. Basic yoga poses\, techniques and brea
 thing are the focus of this beginner class. (All Levels)
DTSTART;TZID=America/New_York:20171206T083000
DTEND;TZID=America/New_York:20171206T094500
END:VEVENT
END:VCALENDAR
