BEGIN:VCALENDAR
PRODID:-//eluceo/ical//2.0/EN
VERSION:2.0
CALSCALE:GREGORIAN
BEGIN:VEVENT
UID:b3e6121c53bc876b0f361db4f592f46c
DTSTAMP:20260420T135159Z
SUMMARY:Yom Hashoah Committee Meeting
DESCRIPTION:Shaw JCC of Akron\nJCC Calendar\nhttps://shawjcc.org/jcccalenda
 r/yom-hashoah-committee-meeting-1512666705-255528\n\nmeeting for the Yom H
 aShoah commemoration committee
DTSTART;TZID=America/New_York:20180118T190000
DTEND;TZID=America/New_York:20180118T210000
END:VEVENT
END:VCALENDAR
