BEGIN:VCALENDAR
PRODID:-//eluceo/ical//2.0/EN
VERSION:2.0
CALSCALE:GREGORIAN
BEGIN:VEVENT
UID:0685ef167bbe06e57bbffeb79ab81d0c
DTSTAMP:20260420T135457Z
SUMMARY:Youth Basketball Skills Clinic
DESCRIPTION:Shaw JCC of Akron\nJCC Calendar\nhttps://shawjcc.org/jcccalenda
 r/youth-basketball-skills-clinicjan2020-337780\n\nPlayers are invited to j
 oin our youth basketball league where players will receive their jerseys a
 nd meet their coaches. Lippman students receive a $10 discount. Register b
 y phone at 330-867-7850 or stop by the front desk.\n\nJan. 19- Skills cli
 nic (receive jerseys and meet coaches)\n\nJan. 26-March 8 (Basketball game
 s seven-week season)\n\n200.YBL1 Ages 4-5\, 1-2 p.m.\n\n200.YBL2 Ages 6-7\
 , 2-3 p.m.\n\n200.YBL3 Ages 8-10\, 3-4 p.m.\n\nCost: $75/M $90/G\n\n 
DTSTART;TZID=America/New_York:20200119T130000
DTEND;TZID=America/New_York:20200119T140000
END:VEVENT
END:VCALENDAR
