BEGIN:VCALENDAR
PRODID:-//eluceo/ical//2.0/EN
VERSION:2.0
CALSCALE:GREGORIAN
BEGIN:VEVENT
UID:1a30a60812d1196b285c22927b7bf5c0
DTSTAMP:20260421T211309Z
SUMMARY:Youth Butterball Bootcamp with Megan
DESCRIPTION:Shaw JCC of Akron\nJCC Calendar\nhttps://shawjcc.org/jcccalenda
 r/youth-butterball-bootcamp-with-megan-11242017\n\nStay fit this holiday w
 eekend! FREE for J members and their guests\, when you donate a canned go
 od!\n\nParticipants will learn proper form & technique of various fitness 
 formats\, while experiencing & learning how much fun fitness can be! This 
 class utilizes a variety of cardiovascular endurance and strength-training
  drills and tools to challenge the body. (All levels)
DTSTART;TZID=America/New_York:20171124T093000
DTEND;TZID=America/New_York:20171124T103000
END:VEVENT
END:VCALENDAR
