BEGIN:VCALENDAR
PRODID:-//eluceo/ical//2.0/EN
VERSION:2.0
CALSCALE:GREGORIAN
BEGIN:VEVENT
UID:f29c0ae0a66212b5a85f9438d75d0896
DTSTAMP:20260422T152215Z
SUMMARY:Youth Fit Circuit Training
DESCRIPTION:Shaw JCC of Akron\nJCC Calendar\nhttps://shawjcc.org/jcccalenda
 r/youth-fit-circuit-training-04012018\n\nFull Body Interval Training class
 es will include strength\, mobility\, stretch and core exercises. Classes 
 will challenge the students to climb\, jump\, push\, lift and move in a pl
 ayful-like workout that will help them build strength and become more agil
 e for fun\, sport and fitness. Taught by a professional instructor.\n\n200
 .FIT3
DTSTART;TZID=America/New_York:20180403T163000
DTEND;TZID=America/New_York:20180403T173000
END:VEVENT
END:VCALENDAR
