BEGIN:VCALENDAR
PRODID:-//eluceo/ical//2.0/EN
VERSION:2.0
CALSCALE:GREGORIAN
BEGIN:VEVENT
UID:d1e4d4fa26bc1e660d67343c67cd9b87
DTSTAMP:20260422T070806Z
SUMMARY:Zumba
DESCRIPTION:Shaw JCC of Akron\nJCC Calendar\nhttps://shawjcc.org/jcccalenda
 r/zumba32026512\n\nFREE for members! You will love this Latin based dance 
 fitness experience\, which is a high intensity cardiovascular workout. Joi
 n the Zumba Party! (All Levels)
DTSTART;TZID=America/New_York:20180104T181500
DTEND;TZID=America/New_York:20180104T191500
END:VEVENT
END:VCALENDAR
